BEGIN:VCALENDAR
VERSION:2.0
PRODID:-//Geschwister-Scholl-Mittelschule - ECPv6.15.20//NONSGML v1.0//EN
CALSCALE:GREGORIAN
METHOD:PUBLISH
X-WR-CALNAME:Geschwister-Scholl-Mittelschule
X-ORIGINAL-URL:https://www.gsms-schwarzenbach.de
X-WR-CALDESC:Veranstaltungen für Geschwister-Scholl-Mittelschule
REFRESH-INTERVAL;VALUE=DURATION:PT1H
X-Robots-Tag:noindex
X-PUBLISHED-TTL:PT1H
BEGIN:VTIMEZONE
TZID:Europe/Berlin
BEGIN:DAYLIGHT
TZOFFSETFROM:+0100
TZOFFSETTO:+0200
TZNAME:CEST
DTSTART:20240331T010000
END:DAYLIGHT
BEGIN:STANDARD
TZOFFSETFROM:+0200
TZOFFSETTO:+0100
TZNAME:CET
DTSTART:20241027T010000
END:STANDARD
BEGIN:DAYLIGHT
TZOFFSETFROM:+0100
TZOFFSETTO:+0200
TZNAME:CEST
DTSTART:20250330T010000
END:DAYLIGHT
BEGIN:STANDARD
TZOFFSETFROM:+0200
TZOFFSETTO:+0100
TZNAME:CET
DTSTART:20251026T010000
END:STANDARD
BEGIN:DAYLIGHT
TZOFFSETFROM:+0100
TZOFFSETTO:+0200
TZNAME:CEST
DTSTART:20260329T010000
END:DAYLIGHT
BEGIN:STANDARD
TZOFFSETFROM:+0200
TZOFFSETTO:+0100
TZNAME:CET
DTSTART:20261025T010000
END:STANDARD
END:VTIMEZONE
BEGIN:VEVENT
DTSTART;TZID=Europe/Berlin:20251217T180000
DTEND;TZID=Europe/Berlin:20251217T200000
DTSTAMP:20260420T115224
CREATED:20241118T084647Z
LAST-MODIFIED:20251214T065941Z
UID:3791-1765994400-1766001600@www.gsms-schwarzenbach.de
SUMMARY:Weihnachtsfeier
DESCRIPTION:Liebe Schulfamilie\, \nalle Schüler*innen\, Erziehungsberechtigte und Eltern sind herzlich eingeladen. Die Einladung erfolgte über unser Kommunikations- und Verwaltungswerkzeug „Edupage“. Dort bitte genau Teilnehmerzahl und Teilnahme am Spendenbuffet angeben.
URL:https://www.gsms-schwarzenbach.de/termine/weihnachtsfeier/
LOCATION:Altes Kino „Capitol“ – Hozgartenstraße 2\, Holzgartenstraße 2\, Schwarzenbach\, Bayern\, 95126\, Germany
CATEGORIES:Eltern,Ereignisse,fünfte Klasse,neunte Klasse,Schule,Schüler*innen,sechste Klasse,sieben DK,siebte Klasse
ORGANIZER;CN="Geschwister-Scholl-Mittelschule":MAILTO:schulleitung@gsms-schwarzenbach.de
END:VEVENT
BEGIN:VEVENT
DTSTART;TZID=Europe/Berlin:20251001T180000
DTEND;TZID=Europe/Berlin:20251001T193000
DTSTAMP:20260420T115224
CREATED:20250916T033040Z
LAST-MODIFIED:20250916T035039Z
UID:4470-1759341600-1759347000@www.gsms-schwarzenbach.de
SUMMARY:Elternabend mit Wahl der Klassenelternsprecher und des Elternbeirats.
DESCRIPTION:Liebe Eltern und Erziehungsberechtigte\, \nam 01.10.25 beginnt um 18:00 Uhr der erste Elternabend mit der Wahl der Klassenelternsprecher statt. Die Einladung bringt ihr Kind mit nach Hause. Sie dient auch als Stimmzettel.
URL:https://www.gsms-schwarzenbach.de/termine/elternabend-mit-wahl-des-klassenelternsprechers/
LOCATION:Klassenzimmer der jeweiligen Klasse und Turnhalle
CATEGORIES:Eltern,Schule
ORGANIZER;CN="Geschwister-Scholl-Mittelschule":MAILTO:schulleitung@gsms-schwarzenbach.de
END:VEVENT
END:VCALENDAR